BEGIN:VCALENDAR
VERSION:2.0
PRODID:-//Prestonwood Examine - ECPv6.15.11//NONSGML v1.0//EN
CALSCALE:GREGORIAN
METHOD:PUBLISH
X-WR-CALNAME:Prestonwood Examine
X-ORIGINAL-URL:https://prestonwoodexamine.org
X-WR-CALDESC:Events for Prestonwood Examine
REFRESH-INTERVAL;VALUE=DURATION:PT1H
X-Robots-Tag:noindex
X-PUBLISHED-TTL:PT1H
BEGIN:VTIMEZONE
TZID:America/Chicago
BEGIN:DAYLIGHT
TZOFFSETFROM:-0600
TZOFFSETTO:-0500
TZNAME:CDT
DTSTART:20140309T080000
END:DAYLIGHT
BEGIN:STANDARD
TZOFFSETFROM:-0500
TZOFFSETTO:-0600
TZNAME:CST
DTSTART:20141102T070000
END:STANDARD
BEGIN:DAYLIGHT
TZOFFSETFROM:-0600
TZOFFSETTO:-0500
TZNAME:CDT
DTSTART:20150308T080000
END:DAYLIGHT
BEGIN:STANDARD
TZOFFSETFROM:-0500
TZOFFSETTO:-0600
TZNAME:CST
DTSTART:20151101T070000
END:STANDARD
BEGIN:DAYLIGHT
TZOFFSETFROM:-0600
TZOFFSETTO:-0500
TZNAME:CDT
DTSTART:20160313T080000
END:DAYLIGHT
BEGIN:STANDARD
TZOFFSETFROM:-0500
TZOFFSETTO:-0600
TZNAME:CST
DTSTART:20161106T070000
END:STANDARD
BEGIN:DAYLIGHT
TZOFFSETFROM:-0600
TZOFFSETTO:-0500
TZNAME:CDT
DTSTART:20170312T080000
END:DAYLIGHT
BEGIN:STANDARD
TZOFFSETFROM:-0500
TZOFFSETTO:-0600
TZNAME:CST
DTSTART:20171105T070000
END:STANDARD
END:VTIMEZONE
BEGIN:VEVENT
DTSTART;TZID=America/Chicago:20160221T140000
DTEND;TZID=America/Chicago:20160221T163000
DTSTAMP:20260422T053302
CREATED:20160201T060028Z
LAST-MODIFIED:20160221T115654Z
UID:1209-1456063200-1456072200@prestonwoodexamine.org
SUMMARY:Movie:  "Risen"
DESCRIPTION:Join us at Cinemark West Plano XD for the new movie “Risen”.  We will watch the 2:10pm showing together.
URL:https://prestonwoodexamine.org/event/movie-risen-2/
LOCATION:Cinemark Theater – West Plano and XD\, 3900 Dallas Pkwy\, Plano\, TX\, 75093
CATEGORIES:Calendar,Fellowship Events
ORGANIZER;CN="Sarah Keplinger":MAILTO:women@prestonwoodexamine.org
GEO:33.0512683;-96.8276367
X-APPLE-STRUCTURED-LOCATION;VALUE=URI;X-ADDRESS=Cinemark Theater – West Plano and XD 3900 Dallas Pkwy Plano TX 75093;X-APPLE-RADIUS=500;X-TITLE=3900 Dallas Pkwy:geo:-96.8276367,33.0512683
END:VEVENT
BEGIN:VEVENT
DTSTART;TZID=America/Chicago:20150927T121500
DTEND;TZID=America/Chicago:20150927T134500
DTSTAMP:20260422T053302
CREATED:20150901T060051Z
LAST-MODIFIED:20150906T190402Z
UID:891-1443356100-1443361500@prestonwoodexamine.org
SUMMARY:Ladies 4th Sunday Lunch
DESCRIPTION:Join us after class for a Ladies’ only lunch at la Madeleine Country French Café. This will be a great time of fellowship for all the football widows!! 🙂
URL:https://prestonwoodexamine.org/event/ladies-4th-sunday-lunch/
LOCATION:La Madeleine – Preston/Park\, 5000 W Park Blvd\, Plano\, TX\, 75093\, United States
CATEGORIES:Calendar,Fellowship Events
ATTACH;FMTTYPE=image/jpeg:https://prestonwoodexamine.org/wp-content/uploads/2015/09/La_Madeleine_Logo_1.jpg
ORGANIZER;CN="Sarah Keplinger":MAILTO:women@prestonwoodexamine.org
GEO:33.0268697;-96.7962041
X-APPLE-STRUCTURED-LOCATION;VALUE=URI;X-ADDRESS=La Madeleine – Preston/Park 5000 W Park Blvd Plano TX 75093 United States;X-APPLE-RADIUS=500;X-TITLE=5000 W Park Blvd:geo:-96.7962041,33.0268697
END:VEVENT
BEGIN:VEVENT
DTSTART;TZID=America/Chicago:20150912T100000
DTEND;TZID=America/Chicago:20150912T120000
DTSTAMP:20260422T053302
CREATED:20150901T060025Z
LAST-MODIFIED:20150906T191059Z
UID:888-1442052000-1442059200@prestonwoodexamine.org
SUMMARY:Ladies' Brunch & Book Review
DESCRIPTION:Join us for a Ladies’ Bruch & Book Review. We will be enjoying time of fellowship and food while we discuss the book “A Long Obedience in the Same Direction” by Eugene Peterson. If you have any questions or need to get in contact with me I can be reached at (214) 506-3065.
URL:https://prestonwoodexamine.org/event/ladies-bruch-book-review/
LOCATION:Rankin’s Home\, 1744 Alpine Drive\, Carrollton\, TX\, 75007\, United States
CATEGORIES:Calendar,Fellowship Events
ATTACH;FMTTYPE=image/jpeg:https://prestonwoodexamine.org/wp-content/uploads/2015/09/A-Long-Obedience.jpg
ORGANIZER;CN="Sarah Keplinger":MAILTO:women@prestonwoodexamine.org
GEO:33.0037809;-96.893777
X-APPLE-STRUCTURED-LOCATION;VALUE=URI;X-ADDRESS=Rankin’s Home 1744 Alpine Drive Carrollton TX 75007 United States;X-APPLE-RADIUS=500;X-TITLE=1744 Alpine Drive:geo:-96.893777,33.0037809
END:VEVENT
BEGIN:VEVENT
DTSTART;VALUE=DATE:20150417
DTEND;VALUE=DATE:20150420
DTSTAMP:20260422T053302
CREATED:20150101T060033Z
LAST-MODIFIED:20190427T020346Z
UID:512-1429250400-1429423199@prestonwoodexamine.org
SUMMARY:Church-Wide Women's Conference
DESCRIPTION:Examine Women… \nJoin our Examine Class Women for the Prestonwood Womens Conference on Friday\, April 17 & Saturday\, April 18\, for a great time of teaching and celebrating!  Signup in class to sit together with our women or contact: \nSarah Keplinger at (703) 609-6163 \nsarahsmile345@yahoo.com \nCost:Both Days $35; $45 at the doorOne Day $15Childcare $5 per family \nYou will need to register and pay online before the event at: \nhttp://www.prestonwood.org/news-events/news-details/2015/03/20/women’s-ministry-2015-conference \n  \nHere’s a summary of the weekend… \nWomen…Join us as we Celebrate Together … Our Time Is Now! This is going to be a conference like none you have ever attended. We are praying for God to teach us through our great lineup of speakers: \n\nKaren Ehman of Proverbs 31 Ministries\, author of Let. It. Go.: How to Stop Running the Show and Start Walking in Faith\nLisa Allen of Proverbs 31 Ministries\nLinda and Jennifer Barrick of Hope Out Loud\nPaula Dunn of Thomas Road Baptist Church will lead us in Worship\n\nHere is a look at the time we will spend together: \nFriday7:00 p.m. Party Starts! Friday Night Session with Karen Ehman9:00 p.m. Party on the Plaza!10:00 p.m. Go home and rest…if you can!Saturday9:00 a.m. Party Don’t Stop! Saturday Sessions with Lisa Allen\, Linda & Jen Barrick and Paula Dunn12:30 p.m. Go & Be Blessed!Main Street Café will be open from 4:30 to 7:00 p.m. on Friday with great offerings such as salads\, baked potatoes\, grilled foods and great coffee. Come early and join friends for dinner before the conference.Main Street’s coffee bar and Grab-N-Go station will be open on Saturday from 7:30 to 9:00 a.m. Get up early and meet your girlfriends for breakfast.We can’t wait to see you there!
URL:https://prestonwoodexamine.org/event/prestonwood-womens-conference/
LOCATION:Church\, 6801 W. Park Blvd.\, Plano\, TX\, 75093
CATEGORIES:Fellowship Events,Prestonwood Events
ORGANIZER;CN="Sarah Keplinger":MAILTO:women@prestonwoodexamine.org
GEO:33.0287075;-96.8469949
X-APPLE-STRUCTURED-LOCATION;VALUE=URI;X-ADDRESS=Church 6801 W. Park Blvd. Plano TX 75093;X-APPLE-RADIUS=500;X-TITLE=6801 W. Park Blvd.:geo:-96.8469949,33.0287075
END:VEVENT
END:VCALENDAR