BEGIN:VCALENDAR
VERSION:2.0
PRODID:-//Prestonwood Examine - ECPv6.15.11//NONSGML v1.0//EN
CALSCALE:GREGORIAN
METHOD:PUBLISH
X-WR-CALNAME:Prestonwood Examine
X-ORIGINAL-URL:https://prestonwoodexamine.org
X-WR-CALDESC:Events for Prestonwood Examine
REFRESH-INTERVAL;VALUE=DURATION:PT1H
X-Robots-Tag:noindex
X-PUBLISHED-TTL:PT1H
BEGIN:VTIMEZONE
TZID:America/Chicago
BEGIN:DAYLIGHT
TZOFFSETFROM:-0600
TZOFFSETTO:-0500
TZNAME:CDT
DTSTART:20240310T080000
END:DAYLIGHT
BEGIN:STANDARD
TZOFFSETFROM:-0500
TZOFFSETTO:-0600
TZNAME:CST
DTSTART:20241103T070000
END:STANDARD
BEGIN:DAYLIGHT
TZOFFSETFROM:-0600
TZOFFSETTO:-0500
TZNAME:CDT
DTSTART:20250309T080000
END:DAYLIGHT
BEGIN:STANDARD
TZOFFSETFROM:-0500
TZOFFSETTO:-0600
TZNAME:CST
DTSTART:20251102T070000
END:STANDARD
BEGIN:DAYLIGHT
TZOFFSETFROM:-0600
TZOFFSETTO:-0500
TZNAME:CDT
DTSTART:20260308T080000
END:DAYLIGHT
BEGIN:STANDARD
TZOFFSETFROM:-0500
TZOFFSETTO:-0600
TZNAME:CST
DTSTART:20261101T070000
END:STANDARD
END:VTIMEZONE
BEGIN:VEVENT
DTSTART;TZID=America/Chicago:20250406T110000
DTEND;TZID=America/Chicago:20250406T120000
DTSTAMP:20260424T100655
CREATED:20220423T185013Z
LAST-MODIFIED:20220423T185013Z
UID:8989-1743937200-1743940800@prestonwoodexamine.org
SUMMARY:Examine Class
DESCRIPTION:We meet on Sunday at 11 in the chapel. \nPlease stop by the welcome table pick up your name tag. \n  \n 
URL:https://prestonwoodexamine.org/event/examine-class/2025-04-06/
LOCATION:Prestonwood’s Faith Chapel\, 6801 W. Park Blvd.\, Plano\, TX\, 75025
CATEGORIES:Bible Fellowship Class,Calendar
GEO:33.0287075;-96.8469949
X-APPLE-STRUCTURED-LOCATION;VALUE=URI;X-ADDRESS=Prestonwood’s Faith Chapel 6801 W. Park Blvd. Plano TX 75025;X-APPLE-RADIUS=500;X-TITLE=6801 W. Park Blvd.:geo:-96.8469949,33.0287075
END:VEVENT
BEGIN:VEVENT
DTSTART;TZID=America/Chicago:20250413T110000
DTEND;TZID=America/Chicago:20250413T120000
DTSTAMP:20260424T100655
CREATED:20220423T185013Z
LAST-MODIFIED:20220423T185013Z
UID:8990-1744542000-1744545600@prestonwoodexamine.org
SUMMARY:Examine Class
DESCRIPTION:We meet on Sunday at 11 in the chapel. \nPlease stop by the welcome table pick up your name tag. \n  \n 
URL:https://prestonwoodexamine.org/event/examine-class/2025-04-13/
LOCATION:Prestonwood’s Faith Chapel\, 6801 W. Park Blvd.\, Plano\, TX\, 75025
CATEGORIES:Bible Fellowship Class,Calendar
GEO:33.0287075;-96.8469949
X-APPLE-STRUCTURED-LOCATION;VALUE=URI;X-ADDRESS=Prestonwood’s Faith Chapel 6801 W. Park Blvd. Plano TX 75025;X-APPLE-RADIUS=500;X-TITLE=6801 W. Park Blvd.:geo:-96.8469949,33.0287075
END:VEVENT
BEGIN:VEVENT
DTSTART;TZID=America/Chicago:20250420T110000
DTEND;TZID=America/Chicago:20250420T120000
DTSTAMP:20260424T100655
CREATED:20220423T185013Z
LAST-MODIFIED:20220423T185013Z
UID:8997-1745146800-1745150400@prestonwoodexamine.org
SUMMARY:Examine Class
DESCRIPTION:We meet on Sunday at 11 in the chapel. \nPlease stop by the welcome table pick up your name tag. \n  \n 
URL:https://prestonwoodexamine.org/event/examine-class/2025-04-20/
LOCATION:Prestonwood’s Faith Chapel\, 6801 W. Park Blvd.\, Plano\, TX\, 75025
CATEGORIES:Bible Fellowship Class,Calendar
GEO:33.0287075;-96.8469949
X-APPLE-STRUCTURED-LOCATION;VALUE=URI;X-ADDRESS=Prestonwood’s Faith Chapel 6801 W. Park Blvd. Plano TX 75025;X-APPLE-RADIUS=500;X-TITLE=6801 W. Park Blvd.:geo:-96.8469949,33.0287075
END:VEVENT
BEGIN:VEVENT
DTSTART;TZID=America/Chicago:20250427T110000
DTEND;TZID=America/Chicago:20250427T120000
DTSTAMP:20260424T100655
CREATED:20220423T185013Z
LAST-MODIFIED:20220423T185013Z
UID:9029-1745751600-1745755200@prestonwoodexamine.org
SUMMARY:Examine Class
DESCRIPTION:We meet on Sunday at 11 in the chapel. \nPlease stop by the welcome table pick up your name tag. \n  \n 
URL:https://prestonwoodexamine.org/event/examine-class/2025-04-27/
LOCATION:Prestonwood’s Faith Chapel\, 6801 W. Park Blvd.\, Plano\, TX\, 75025
CATEGORIES:Bible Fellowship Class,Calendar
GEO:33.0287075;-96.8469949
X-APPLE-STRUCTURED-LOCATION;VALUE=URI;X-ADDRESS=Prestonwood’s Faith Chapel 6801 W. Park Blvd. Plano TX 75025;X-APPLE-RADIUS=500;X-TITLE=6801 W. Park Blvd.:geo:-96.8469949,33.0287075
END:VEVENT
END:VCALENDAR