BEGIN:VCALENDAR
VERSION:2.0
PRODID:-//Prestonwood Examine - ECPv6.15.11//NONSGML v1.0//EN
CALSCALE:GREGORIAN
METHOD:PUBLISH
X-WR-CALNAME:Prestonwood Examine
X-ORIGINAL-URL:https://prestonwoodexamine.org
X-WR-CALDESC:Events for Prestonwood Examine
REFRESH-INTERVAL;VALUE=DURATION:PT1H
X-Robots-Tag:noindex
X-PUBLISHED-TTL:PT1H
BEGIN:VTIMEZONE
TZID:America/Chicago
BEGIN:DAYLIGHT
TZOFFSETFROM:-0600
TZOFFSETTO:-0500
TZNAME:CDT
DTSTART:20230312T080000
END:DAYLIGHT
BEGIN:STANDARD
TZOFFSETFROM:-0500
TZOFFSETTO:-0600
TZNAME:CST
DTSTART:20231105T070000
END:STANDARD
BEGIN:DAYLIGHT
TZOFFSETFROM:-0600
TZOFFSETTO:-0500
TZNAME:CDT
DTSTART:20240310T080000
END:DAYLIGHT
BEGIN:STANDARD
TZOFFSETFROM:-0500
TZOFFSETTO:-0600
TZNAME:CST
DTSTART:20241103T070000
END:STANDARD
BEGIN:DAYLIGHT
TZOFFSETFROM:-0600
TZOFFSETTO:-0500
TZNAME:CDT
DTSTART:20250309T080000
END:DAYLIGHT
BEGIN:STANDARD
TZOFFSETFROM:-0500
TZOFFSETTO:-0600
TZNAME:CST
DTSTART:20251102T070000
END:STANDARD
END:VTIMEZONE
BEGIN:VEVENT
DTSTART;TZID=America/Chicago:20241201T110000
DTEND;TZID=America/Chicago:20241201T120000
DTSTAMP:20260424T162219
CREATED:20220423T185013Z
LAST-MODIFIED:20220423T185013Z
UID:8397-1733050800-1733054400@prestonwoodexamine.org
SUMMARY:Examine Class
DESCRIPTION:We meet on Sunday at 11 in the chapel. \nPlease stop by the welcome table pick up your name tag. \n  \n 
URL:https://prestonwoodexamine.org/event/examine-class/2024-12-01/
LOCATION:Prestonwood’s Faith Chapel\, 6801 W. Park Blvd.\, Plano\, TX\, 75025
CATEGORIES:Bible Fellowship Class,Calendar
GEO:33.0287075;-96.8469949
X-APPLE-STRUCTURED-LOCATION;VALUE=URI;X-ADDRESS=Prestonwood’s Faith Chapel 6801 W. Park Blvd. Plano TX 75025;X-APPLE-RADIUS=500;X-TITLE=6801 W. Park Blvd.:geo:-96.8469949,33.0287075
END:VEVENT
BEGIN:VEVENT
DTSTART;TZID=America/Chicago:20241208T110000
DTEND;TZID=America/Chicago:20241208T120000
DTSTAMP:20260424T162219
CREATED:20220423T185013Z
LAST-MODIFIED:20220423T185013Z
UID:8403-1733655600-1733659200@prestonwoodexamine.org
SUMMARY:Examine Class
DESCRIPTION:We meet on Sunday at 11 in the chapel. \nPlease stop by the welcome table pick up your name tag. \n  \n 
URL:https://prestonwoodexamine.org/event/examine-class/2024-12-08/
LOCATION:Prestonwood’s Faith Chapel\, 6801 W. Park Blvd.\, Plano\, TX\, 75025
CATEGORIES:Bible Fellowship Class,Calendar
GEO:33.0287075;-96.8469949
X-APPLE-STRUCTURED-LOCATION;VALUE=URI;X-ADDRESS=Prestonwood’s Faith Chapel 6801 W. Park Blvd. Plano TX 75025;X-APPLE-RADIUS=500;X-TITLE=6801 W. Park Blvd.:geo:-96.8469949,33.0287075
END:VEVENT
BEGIN:VEVENT
DTSTART;TZID=America/Chicago:20241215T110000
DTEND;TZID=America/Chicago:20241215T120000
DTSTAMP:20260424T162219
CREATED:20220423T185013Z
LAST-MODIFIED:20220423T185013Z
UID:8423-1734260400-1734264000@prestonwoodexamine.org
SUMMARY:Examine Class
DESCRIPTION:We meet on Sunday at 11 in the chapel. \nPlease stop by the welcome table pick up your name tag. \n  \n 
URL:https://prestonwoodexamine.org/event/examine-class/2024-12-15/
LOCATION:Prestonwood’s Faith Chapel\, 6801 W. Park Blvd.\, Plano\, TX\, 75025
CATEGORIES:Bible Fellowship Class,Calendar
GEO:33.0287075;-96.8469949
X-APPLE-STRUCTURED-LOCATION;VALUE=URI;X-ADDRESS=Prestonwood’s Faith Chapel 6801 W. Park Blvd. Plano TX 75025;X-APPLE-RADIUS=500;X-TITLE=6801 W. Park Blvd.:geo:-96.8469949,33.0287075
END:VEVENT
BEGIN:VEVENT
DTSTART;TZID=America/Chicago:20241222T110000
DTEND;TZID=America/Chicago:20241222T120000
DTSTAMP:20260424T162219
CREATED:20220423T185013Z
LAST-MODIFIED:20220423T185013Z
UID:8464-1734865200-1734868800@prestonwoodexamine.org
SUMMARY:Examine Class
DESCRIPTION:We meet on Sunday at 11 in the chapel. \nPlease stop by the welcome table pick up your name tag. \n  \n 
URL:https://prestonwoodexamine.org/event/examine-class/2024-12-22/
LOCATION:Prestonwood’s Faith Chapel\, 6801 W. Park Blvd.\, Plano\, TX\, 75025
CATEGORIES:Bible Fellowship Class,Calendar
GEO:33.0287075;-96.8469949
X-APPLE-STRUCTURED-LOCATION;VALUE=URI;X-ADDRESS=Prestonwood’s Faith Chapel 6801 W. Park Blvd. Plano TX 75025;X-APPLE-RADIUS=500;X-TITLE=6801 W. Park Blvd.:geo:-96.8469949,33.0287075
END:VEVENT
BEGIN:VEVENT
DTSTART;TZID=America/Chicago:20241229T110000
DTEND;TZID=America/Chicago:20241229T120000
DTSTAMP:20260424T162219
CREATED:20220423T185013Z
LAST-MODIFIED:20220423T185013Z
UID:8466-1735470000-1735473600@prestonwoodexamine.org
SUMMARY:Examine Class
DESCRIPTION:We meet on Sunday at 11 in the chapel. \nPlease stop by the welcome table pick up your name tag. \n  \n 
URL:https://prestonwoodexamine.org/event/examine-class/2024-12-29/
LOCATION:Prestonwood’s Faith Chapel\, 6801 W. Park Blvd.\, Plano\, TX\, 75025
CATEGORIES:Bible Fellowship Class,Calendar
GEO:33.0287075;-96.8469949
X-APPLE-STRUCTURED-LOCATION;VALUE=URI;X-ADDRESS=Prestonwood’s Faith Chapel 6801 W. Park Blvd. Plano TX 75025;X-APPLE-RADIUS=500;X-TITLE=6801 W. Park Blvd.:geo:-96.8469949,33.0287075
END:VEVENT
END:VCALENDAR