BEGIN:VCALENDAR
VERSION:2.0
PRODID:-//Prestonwood Examine - ECPv6.15.11//NONSGML v1.0//EN
CALSCALE:GREGORIAN
METHOD:PUBLISH
X-WR-CALNAME:Prestonwood Examine
X-ORIGINAL-URL:http://prestonwoodexamine.org
X-WR-CALDESC:Events for Prestonwood Examine
REFRESH-INTERVAL;VALUE=DURATION:PT1H
X-Robots-Tag:noindex
X-PUBLISHED-TTL:PT1H
BEGIN:VTIMEZONE
TZID:America/Chicago
BEGIN:DAYLIGHT
TZOFFSETFROM:-0600
TZOFFSETTO:-0500
TZNAME:CDT
DTSTART:20160313T080000
END:DAYLIGHT
BEGIN:STANDARD
TZOFFSETFROM:-0500
TZOFFSETTO:-0600
TZNAME:CST
DTSTART:20161106T070000
END:STANDARD
BEGIN:DAYLIGHT
TZOFFSETFROM:-0600
TZOFFSETTO:-0500
TZNAME:CDT
DTSTART:20170312T080000
END:DAYLIGHT
BEGIN:STANDARD
TZOFFSETFROM:-0500
TZOFFSETTO:-0600
TZNAME:CST
DTSTART:20171105T070000
END:STANDARD
BEGIN:DAYLIGHT
TZOFFSETFROM:-0600
TZOFFSETTO:-0500
TZNAME:CDT
DTSTART:20180311T080000
END:DAYLIGHT
BEGIN:STANDARD
TZOFFSETFROM:-0500
TZOFFSETTO:-0600
TZNAME:CST
DTSTART:20181104T070000
END:STANDARD
END:VTIMEZONE
BEGIN:VEVENT
DTSTART;TZID=America/Chicago:20170121T173000
DTEND;TZID=America/Chicago:20170121T210000
DTSTAMP:20260421T053132
CREATED:20170101T060028Z
LAST-MODIFIED:20170115T132202Z
UID:1697-1485019800-1485032400@prestonwoodexamine.org
SUMMARY:Examine 12th Night Party & Gift Exchange - Uncle Buck's Steakhouse in Grapevine (next to Bass Pro Shop)
DESCRIPTION:Join us for our 7th Annual Examine Class 12th Night Party & White Elephant Gift Exchange at Uncle Buck’s Steakhouse in Grapevine\, Texas (next to Bass Pro Shop).  Our dinner reservation is at 5:30pm and we will be located in a sectioned off area at the back of the dining room. \nAlso\, be sure to bring a “White Elephant” gift to exchange.  Gifts should be valued from $10-$15. \nAfter dinner and our gift exchange\, we will head next door to Bass Pro Shop for a fun activity (more details coming soon…).  Don’t miss this event!  It’s one of our biggest ones of the year!
URL:http://prestonwoodexamine.org/event/examine-12th-night-party-gift-exchange-uncle-bucks-steakhouse-in-grapevine-next-to-bass-pro-shop/
LOCATION:Uncle Buck’s Steakhouse\, 2501 Bass Pro Dr\, Grapevine\, Texas\, 76051
CATEGORIES:Calendar,Fellowship Events
GEO:32.9574001;-97.0429669
X-APPLE-STRUCTURED-LOCATION;VALUE=URI;X-ADDRESS=Uncle Buck’s Steakhouse 2501 Bass Pro Dr Grapevine Texas 76051;X-APPLE-RADIUS=500;X-TITLE=2501 Bass Pro Dr:geo:-97.0429669,32.9574001
END:VEVENT
END:VCALENDAR