BEGIN:VCALENDAR
VERSION:2.0
PRODID:-//Prestonwood Examine - ECPv6.15.11//NONSGML v1.0//EN
CALSCALE:GREGORIAN
METHOD:PUBLISH
X-ORIGINAL-URL:http://prestonwoodexamine.org
X-WR-CALDESC:Events for Prestonwood Examine
REFRESH-INTERVAL;VALUE=DURATION:PT1H
X-Robots-Tag:noindex
X-PUBLISHED-TTL:PT1H
BEGIN:VTIMEZONE
TZID:America/Chicago
BEGIN:DAYLIGHT
TZOFFSETFROM:-0600
TZOFFSETTO:-0500
TZNAME:CDT
DTSTART:20140309T080000
END:DAYLIGHT
BEGIN:STANDARD
TZOFFSETFROM:-0500
TZOFFSETTO:-0600
TZNAME:CST
DTSTART:20141102T070000
END:STANDARD
BEGIN:DAYLIGHT
TZOFFSETFROM:-0600
TZOFFSETTO:-0500
TZNAME:CDT
DTSTART:20150308T080000
END:DAYLIGHT
BEGIN:STANDARD
TZOFFSETFROM:-0500
TZOFFSETTO:-0600
TZNAME:CST
DTSTART:20151101T070000
END:STANDARD
BEGIN:DAYLIGHT
TZOFFSETFROM:-0600
TZOFFSETTO:-0500
TZNAME:CDT
DTSTART:20160313T080000
END:DAYLIGHT
BEGIN:STANDARD
TZOFFSETFROM:-0500
TZOFFSETTO:-0600
TZNAME:CST
DTSTART:20161106T070000
END:STANDARD
END:VTIMEZONE
BEGIN:VEVENT
DTSTART;TZID=America/Chicago:20150816T123000
DTEND;TZID=America/Chicago:20150816T170000
DTSTAMP:20260421T065149
CREATED:20150101T060038Z
LAST-MODIFIED:20150816T174445Z
UID:786-1439728200-1439744400@prestonwoodexamine.org
SUMMARY:3rd Sunday Lunch at the Dallas Museum of Art (DMA)
DESCRIPTION:Due to the lack of signups for today’s trip to the Dallas Museum of Art and because of Prestonwood’s Leadership Summit this afternoon\, we are going to POSTPONE today’s event.  Thank you for your understanding.
URL:http://prestonwoodexamine.org/event/3rd-sunday-lunch-at-the-dallas-museum-of-art-dma/
LOCATION:Dallas Museum of Art\, 1717 N Harwood St\, Dallas\, 75201
CATEGORIES:Calendar,Fellowship Events
ATTACH;FMTTYPE=image/png:http://prestonwoodexamine.org/wp-content/uploads/2015/01/DAM-Blue-Logo.png
GEO:32.788519;-96.801127
X-APPLE-STRUCTURED-LOCATION;VALUE=URI;X-ADDRESS=Dallas Museum of Art 1717 N Harwood St Dallas 75201;X-APPLE-RADIUS=500;X-TITLE=1717 N Harwood St:geo:-96.801127,32.788519
END:VEVENT
END:VCALENDAR