BEGIN:VCALENDAR
VERSION:2.0
PRODID:-//Prestonwood Examine - ECPv6.15.11//NONSGML v1.0//EN
CALSCALE:GREGORIAN
METHOD:PUBLISH
X-WR-CALNAME:Prestonwood Examine
X-ORIGINAL-URL:http://prestonwoodexamine.org
X-WR-CALDESC:Events for Prestonwood Examine
REFRESH-INTERVAL;VALUE=DURATION:PT1H
X-Robots-Tag:noindex
X-PUBLISHED-TTL:PT1H
BEGIN:VTIMEZONE
TZID:America/Chicago
BEGIN:DAYLIGHT
TZOFFSETFROM:-0600
TZOFFSETTO:-0500
TZNAME:CDT
DTSTART:20140309T080000
END:DAYLIGHT
BEGIN:STANDARD
TZOFFSETFROM:-0500
TZOFFSETTO:-0600
TZNAME:CST
DTSTART:20141102T070000
END:STANDARD
BEGIN:DAYLIGHT
TZOFFSETFROM:-0600
TZOFFSETTO:-0500
TZNAME:CDT
DTSTART:20150308T080000
END:DAYLIGHT
BEGIN:STANDARD
TZOFFSETFROM:-0500
TZOFFSETTO:-0600
TZNAME:CST
DTSTART:20151101T070000
END:STANDARD
BEGIN:DAYLIGHT
TZOFFSETFROM:-0600
TZOFFSETTO:-0500
TZNAME:CDT
DTSTART:20160313T080000
END:DAYLIGHT
BEGIN:STANDARD
TZOFFSETFROM:-0500
TZOFFSETTO:-0600
TZNAME:CST
DTSTART:20161106T070000
END:STANDARD
END:VTIMEZONE
BEGIN:VEVENT
DTSTART;TZID=America/Chicago:20150315T121500
DTEND;TZID=America/Chicago:20150315T133000
DTSTAMP:20260423T072959
CREATED:20150101T060030Z
LAST-MODIFIED:20150301T193643Z
UID:435-1426421700-1426426200@prestonwoodexamine.org
SUMMARY:3rd Sunday Lunch
DESCRIPTION:Join us for lunch at Newk’s on the southwest corner of Parker Rd. and Parkwood Blvd. on the east side of the Dallas North Tollway.
URL:http://prestonwoodexamine.org/event/3rd-sunday-lunch-2/
LOCATION:Newk’s\, 5960 W Parker Rd #298\, Plano\, TX\, 75093
CATEGORIES:3rd Sunday Lunch,Sunday Lunches
GEO:33.0442279;-96.827892
X-APPLE-STRUCTURED-LOCATION;VALUE=URI;X-ADDRESS=Newk’s 5960 W Parker Rd #298 Plano TX 75093;X-APPLE-RADIUS=500;X-TITLE=5960 W Parker Rd #298:geo:-96.827892,33.0442279
END:VEVENT
BEGIN:VEVENT
DTSTART;TZID=America/Chicago:20150307T133000
DTEND;TZID=America/Chicago:20150307T143000
DTSTAMP:20260423T072959
CREATED:20150101T060000Z
LAST-MODIFIED:20150301T201106Z
UID:437-1425735000-1425738600@prestonwoodexamine.org
SUMMARY:Ft. Worth - Omni Theater Movie:  "Jerusalem"
DESCRIPTION:Join us for an afternoon at the Ft. Worth Museum & Science center as we go to watch the movie documentary “Jerusalem” at the Omni Theater.  The cost of the movie is $7 for adults\, $6 for seniors\, & $6 for juniors.  We will also plan on eating together after the movie at Joe T Garcia’s in Ft. Worth (depending on the weather) at about 4:00pm (exact time TBD after the movie).  Of course you are also welcome to go to the museum and science center before or after the movie to tour the many exhibits on hand.  The movie is 40 mins long. \nTo insure availability\, please purchase your tickets immediately at the following direct link: \nhttps://www.tickets.fwmuseum.org/public/auto_choose_ga.asp?area=46 \nFor more details about the movie\, visit  http://fwmuseum1.tru-m.com/jerusalem \n\nFort Worth Museum of Science and History\nwww.fwmuseum.com\n1600 Gendy St\nFort Worth\, TX 76107\n(817) 255-9300\n\n  \nJoe T Garcia’s is located at: \n\nwww.joets.com\n2201 N Commerce St\nFort Worth\, TX 76164\n(817) 626-4356
URL:http://prestonwoodexamine.org/event/ft-worth-omni-theater-movie-jerusalem/
LOCATION:Fort Worth Museum of Science and History:  Omni Theater\, 1600 Gendy St.\, Fort Worth\, TX\, 76107
CATEGORIES:Fellowship Events
GEO:32.744201;-97.3691391
X-APPLE-STRUCTURED-LOCATION;VALUE=URI;X-ADDRESS=Fort Worth Museum of Science and History:  Omni Theater 1600 Gendy St. Fort Worth TX 76107;X-APPLE-RADIUS=500;X-TITLE=1600 Gendy St.:geo:-97.3691391,32.744201
END:VEVENT
BEGIN:VEVENT
DTSTART;TZID=America/Chicago:20150305T190000
DTEND;TZID=America/Chicago:20150305T212000
DTSTAMP:20260423T072959
CREATED:20150101T060030Z
LAST-MODIFIED:20150301T204207Z
UID:440-1425582000-1425590400@prestonwoodexamine.org
SUMMARY:Movie:  "The Drop Box"
DESCRIPTION:Join our group as several of us go together to watch the limited showing movie: “The Drop Box” \nThe Drop Box tells the story of South Korean pastor Lee Jong-rak and his heroic efforts to embrace and protect the most vulnerable members of society. It is a heart-wrenching exploration of the physical\, emotional and financial toll associated with providing refuge to orphans that would otherwise be abandoned on the streets. But The Drop Box movie is also a story of hope—a reminder that every human life is sacred and worthy of love. \nSouth Korea is not the only country grappling with the issue of orphan care. Around the world\, there are more than 150 million orphans waiting for forever families to call their own. \nThis limited showing movie is only playing in select theater for 3 days. \nFor more information about the movie\, please visit: \nhttp://www.thedropboxfilm.com \n  \nWe will meet at the theater at 6:30pm to get seats. \nTo purchase your tickets\, please visit this direct link: \nhttp://www.cinemark.com/theatre-detail.aspx?node_id=1521#3/5/2015 \nTickets are $12.50 for adults\, $11.50 for seniors\, $11.50 for students\, and $10.50 for children.
URL:http://prestonwoodexamine.org/event/movie-the-drop-box/
LOCATION:Cinemark Theater – West Plano and XD\, 3900 Dallas Pkwy\, Plano\, TX\, 75093
CATEGORIES:Fellowship Events
GEO:33.0512683;-96.8276367
X-APPLE-STRUCTURED-LOCATION;VALUE=URI;X-ADDRESS=Cinemark Theater – West Plano and XD 3900 Dallas Pkwy Plano TX 75093;X-APPLE-RADIUS=500;X-TITLE=3900 Dallas Pkwy:geo:-96.8276367,33.0512683
END:VEVENT
BEGIN:VEVENT
DTSTART;TZID=America/Chicago:20150301T121500
DTEND;TZID=America/Chicago:20150301T133000
DTSTAMP:20260423T072959
CREATED:20150101T060053Z
LAST-MODIFIED:20150206T113237Z
UID:152-1425212100-1425216600@prestonwoodexamine.org
SUMMARY:1st Sunday Lunch
DESCRIPTION:Join for a great lunch buffet at Prestonwood in The Commons.
URL:http://prestonwoodexamine.org/event/1st-sunday-lunch/
LOCATION:Church\, 6801 W. Park Blvd.\, Plano\, TX\, 75093
CATEGORIES:1st Sunday Lunch
GEO:33.0287075;-96.8469949
X-APPLE-STRUCTURED-LOCATION;VALUE=URI;X-ADDRESS=Church 6801 W. Park Blvd. Plano TX 75093;X-APPLE-RADIUS=500;X-TITLE=6801 W. Park Blvd.:geo:-96.8469949,33.0287075
END:VEVENT
BEGIN:VEVENT
DTSTART;TZID=America/Chicago:20150222T160000
DTEND;TZID=America/Chicago:20150222T180000
DTSTAMP:20260423T072959
CREATED:20150101T060006Z
LAST-MODIFIED:20150206T193754Z
UID:160-1424620800-1424628000@prestonwoodexamine.org
SUMMARY:Leadership Meeting
DESCRIPTION:If you would like to help us plan the various aspects of the Examine Class ministry\, join us at the home of Brad & Tracy Popoff.
URL:http://prestonwoodexamine.org/event/leadership-meeting/
LOCATION:Brad & Tracy Popoff\, 5017 Steinbeck St.\, Carrollton\, TX\, 75010
CATEGORIES:Leadership Meetings
GEO:33.048969;-96.864163
X-APPLE-STRUCTURED-LOCATION;VALUE=URI;X-ADDRESS=Brad & Tracy Popoff 5017 Steinbeck St. Carrollton TX 75010;X-APPLE-RADIUS=500;X-TITLE=5017 Steinbeck St.:geo:-96.864163,33.048969
END:VEVENT
BEGIN:VEVENT
DTSTART;TZID=America/Chicago:20150215T121500
DTEND;TZID=America/Chicago:20150215T133000
DTSTAMP:20260423T072959
CREATED:20150101T060047Z
LAST-MODIFIED:20150206T192647Z
UID:127-1424002500-1424007000@prestonwoodexamine.org
SUMMARY:3rd Sunday Lunch
DESCRIPTION:Join us for lunch at Fuddruckers on the southwest corner of Frankford and the Dallas North Tollway.
URL:http://prestonwoodexamine.org/event/3rd-sunday-lunch/
LOCATION:Fuddruckers\, 4520 Frankford Road #1200\, Dallas\, TX\, 75287
CATEGORIES:3rd Sunday Lunch
GEO:32.9969337;-96.8308749
X-APPLE-STRUCTURED-LOCATION;VALUE=URI;X-ADDRESS=Fuddruckers 4520 Frankford Road #1200 Dallas TX 75287;X-APPLE-RADIUS=500;X-TITLE=4520 Frankford Road #1200:geo:-96.8308749,32.9969337
END:VEVENT
BEGIN:VEVENT
DTSTART;TZID=America/Chicago:20150208T110000
DTEND;TZID=America/Chicago:20150208T120000
DTSTAMP:20260423T072959
CREATED:20150101T060045Z
LAST-MODIFIED:20150207T114854Z
UID:163-1423393200-1423396800@prestonwoodexamine.org
SUMMARY:ICR - Dr. Tim Clarey on "Unlocking the Mysteries of Noah's Flood"
DESCRIPTION:Dr. Tim Clarey is one of ICR’s (Institute for Creation Research) well respected geologists who has been doing extensive research on the flood and soil movements from before\, during\, and after Noah’s Flood.  Join us as he presents his findings and determine for yourself what it means to your world view.
URL:http://prestonwoodexamine.org/event/icr-dr-tim-clarey-on-noahs-flood/
LOCATION:Prestonwood’s Faith Chapel\, 6801 W. Park Blvd.\, Plano\, TX\, 75025
CATEGORIES:Bible Fellowship Class
GEO:33.0287075;-96.8469949
X-APPLE-STRUCTURED-LOCATION;VALUE=URI;X-ADDRESS=Prestonwood’s Faith Chapel 6801 W. Park Blvd. Plano TX 75025;X-APPLE-RADIUS=500;X-TITLE=6801 W. Park Blvd.:geo:-96.8469949,33.0287075
END:VEVENT
END:VCALENDAR