BEGIN:VCALENDAR
VERSION:2.0
PRODID:-//Prestonwood Examine - ECPv6.15.11//NONSGML v1.0//EN
CALSCALE:GREGORIAN
METHOD:PUBLISH
X-WR-CALNAME:Prestonwood Examine
X-ORIGINAL-URL:http://prestonwoodexamine.org
X-WR-CALDESC:Events for Prestonwood Examine
REFRESH-INTERVAL;VALUE=DURATION:PT1H
X-Robots-Tag:noindex
X-PUBLISHED-TTL:PT1H
BEGIN:VTIMEZONE
TZID:America/Chicago
BEGIN:DAYLIGHT
TZOFFSETFROM:-0600
TZOFFSETTO:-0500
TZNAME:CDT
DTSTART:20270314T080000
END:DAYLIGHT
BEGIN:STANDARD
TZOFFSETFROM:-0500
TZOFFSETTO:-0600
TZNAME:CST
DTSTART:20271107T070000
END:STANDARD
BEGIN:DAYLIGHT
TZOFFSETFROM:-0600
TZOFFSETTO:-0500
TZNAME:CDT
DTSTART:20280312T080000
END:DAYLIGHT
BEGIN:STANDARD
TZOFFSETFROM:-0500
TZOFFSETTO:-0600
TZNAME:CST
DTSTART:20281105T070000
END:STANDARD
BEGIN:DAYLIGHT
TZOFFSETFROM:-0600
TZOFFSETTO:-0500
TZNAME:CDT
DTSTART:20290311T080000
END:DAYLIGHT
BEGIN:STANDARD
TZOFFSETFROM:-0500
TZOFFSETTO:-0600
TZNAME:CST
DTSTART:20291104T070000
END:STANDARD
END:VTIMEZONE
BEGIN:VEVENT
DTSTART;TZID=America/Chicago:20280102T110000
DTEND;TZID=America/Chicago:20280102T120000
DTSTAMP:20260423T075220
CREATED:20220423T185013Z
LAST-MODIFIED:20220423T185013Z
UID:10736-1830423600-1830427200@prestonwoodexamine.org
SUMMARY:Examine Class
DESCRIPTION:We meet on Sunday at 11 in the chapel. \nPlease stop by the welcome table pick up your name tag. \n  \n 
URL:http://prestonwoodexamine.org/event/examine-class/2028-01-02/
LOCATION:Prestonwood’s Faith Chapel\, 6801 W. Park Blvd.\, Plano\, TX\, 75025
CATEGORIES:Bible Fellowship Class,Calendar
GEO:33.0287075;-96.8469949
X-APPLE-STRUCTURED-LOCATION;VALUE=URI;X-ADDRESS=Prestonwood’s Faith Chapel 6801 W. Park Blvd. Plano TX 75025;X-APPLE-RADIUS=500;X-TITLE=6801 W. Park Blvd.:geo:-96.8469949,33.0287075
END:VEVENT
BEGIN:VEVENT
DTSTART;TZID=America/Chicago:20280109T110000
DTEND;TZID=America/Chicago:20280109T120000
DTSTAMP:20260423T075220
CREATED:20220423T185013Z
LAST-MODIFIED:20220423T185013Z
UID:10743-1831028400-1831032000@prestonwoodexamine.org
SUMMARY:Examine Class
DESCRIPTION:We meet on Sunday at 11 in the chapel. \nPlease stop by the welcome table pick up your name tag. \n  \n 
URL:http://prestonwoodexamine.org/event/examine-class/2028-01-09/
LOCATION:Prestonwood’s Faith Chapel\, 6801 W. Park Blvd.\, Plano\, TX\, 75025
CATEGORIES:Bible Fellowship Class,Calendar
GEO:33.0287075;-96.8469949
X-APPLE-STRUCTURED-LOCATION;VALUE=URI;X-ADDRESS=Prestonwood’s Faith Chapel 6801 W. Park Blvd. Plano TX 75025;X-APPLE-RADIUS=500;X-TITLE=6801 W. Park Blvd.:geo:-96.8469949,33.0287075
END:VEVENT
BEGIN:VEVENT
DTSTART;TZID=America/Chicago:20280116T110000
DTEND;TZID=America/Chicago:20280116T120000
DTSTAMP:20260423T075220
CREATED:20220423T185013Z
LAST-MODIFIED:20220423T185013Z
UID:10764-1831633200-1831636800@prestonwoodexamine.org
SUMMARY:Examine Class
DESCRIPTION:We meet on Sunday at 11 in the chapel. \nPlease stop by the welcome table pick up your name tag. \n  \n 
URL:http://prestonwoodexamine.org/event/examine-class/2028-01-16/
LOCATION:Prestonwood’s Faith Chapel\, 6801 W. Park Blvd.\, Plano\, TX\, 75025
CATEGORIES:Bible Fellowship Class,Calendar
GEO:33.0287075;-96.8469949
X-APPLE-STRUCTURED-LOCATION;VALUE=URI;X-ADDRESS=Prestonwood’s Faith Chapel 6801 W. Park Blvd. Plano TX 75025;X-APPLE-RADIUS=500;X-TITLE=6801 W. Park Blvd.:geo:-96.8469949,33.0287075
END:VEVENT
BEGIN:VEVENT
DTSTART;TZID=America/Chicago:20280123T110000
DTEND;TZID=America/Chicago:20280123T120000
DTSTAMP:20260423T075220
CREATED:20220423T185013Z
LAST-MODIFIED:20220423T185013Z
UID:10788-1832238000-1832241600@prestonwoodexamine.org
SUMMARY:Examine Class
DESCRIPTION:We meet on Sunday at 11 in the chapel. \nPlease stop by the welcome table pick up your name tag. \n  \n 
URL:http://prestonwoodexamine.org/event/examine-class/2028-01-23/
LOCATION:Prestonwood’s Faith Chapel\, 6801 W. Park Blvd.\, Plano\, TX\, 75025
CATEGORIES:Bible Fellowship Class,Calendar
GEO:33.0287075;-96.8469949
X-APPLE-STRUCTURED-LOCATION;VALUE=URI;X-ADDRESS=Prestonwood’s Faith Chapel 6801 W. Park Blvd. Plano TX 75025;X-APPLE-RADIUS=500;X-TITLE=6801 W. Park Blvd.:geo:-96.8469949,33.0287075
END:VEVENT
BEGIN:VEVENT
DTSTART;TZID=America/Chicago:20280130T110000
DTEND;TZID=America/Chicago:20280130T120000
DTSTAMP:20260423T075220
CREATED:20220423T185013Z
LAST-MODIFIED:20220423T185013Z
UID:10791-1832842800-1832846400@prestonwoodexamine.org
SUMMARY:Examine Class
DESCRIPTION:We meet on Sunday at 11 in the chapel. \nPlease stop by the welcome table pick up your name tag. \n  \n 
URL:http://prestonwoodexamine.org/event/examine-class/2028-01-30/
LOCATION:Prestonwood’s Faith Chapel\, 6801 W. Park Blvd.\, Plano\, TX\, 75025
CATEGORIES:Bible Fellowship Class,Calendar
GEO:33.0287075;-96.8469949
X-APPLE-STRUCTURED-LOCATION;VALUE=URI;X-ADDRESS=Prestonwood’s Faith Chapel 6801 W. Park Blvd. Plano TX 75025;X-APPLE-RADIUS=500;X-TITLE=6801 W. Park Blvd.:geo:-96.8469949,33.0287075
END:VEVENT
END:VCALENDAR