BEGIN:VCALENDAR
VERSION:2.0
PRODID:-//Prestonwood Examine - ECPv6.15.11//NONSGML v1.0//EN
CALSCALE:GREGORIAN
METHOD:PUBLISH
X-WR-CALNAME:Prestonwood Examine
X-ORIGINAL-URL:http://prestonwoodexamine.org
X-WR-CALDESC:Events for Prestonwood Examine
REFRESH-INTERVAL;VALUE=DURATION:PT1H
X-Robots-Tag:noindex
X-PUBLISHED-TTL:PT1H
BEGIN:VTIMEZONE
TZID:America/Chicago
BEGIN:DAYLIGHT
TZOFFSETFROM:-0600
TZOFFSETTO:-0500
TZNAME:CDT
DTSTART:20140309T080000
END:DAYLIGHT
BEGIN:STANDARD
TZOFFSETFROM:-0500
TZOFFSETTO:-0600
TZNAME:CST
DTSTART:20141102T070000
END:STANDARD
BEGIN:DAYLIGHT
TZOFFSETFROM:-0600
TZOFFSETTO:-0500
TZNAME:CDT
DTSTART:20150308T080000
END:DAYLIGHT
BEGIN:STANDARD
TZOFFSETFROM:-0500
TZOFFSETTO:-0600
TZNAME:CST
DTSTART:20151101T070000
END:STANDARD
BEGIN:DAYLIGHT
TZOFFSETFROM:-0600
TZOFFSETTO:-0500
TZNAME:CDT
DTSTART:20160313T080000
END:DAYLIGHT
BEGIN:STANDARD
TZOFFSETFROM:-0500
TZOFFSETTO:-0600
TZNAME:CST
DTSTART:20161106T070000
END:STANDARD
END:VTIMEZONE
BEGIN:VEVENT
DTSTART;TZID=America/Chicago:20150930T183000
DTEND;TZID=America/Chicago:20150930T200000
DTSTAMP:20260421T040249
CREATED:20150901T060038Z
LAST-MODIFIED:20150916T015226Z
UID:942-1443637800-1443643200@prestonwoodexamine.org
SUMMARY:ICR - "Dinosaurs and the Bible"
DESCRIPTION:Mr. Brian Thomas will present “Dinosaurs and the Bible” as part of the Connection: Creation Basics series at 6:30pm in the sanctuary.
URL:http://prestonwoodexamine.org/event/icr-dinosaurs-and-the-bible/2015-09-30/
LOCATION:Church\, 6801 W. Park Blvd.\, Plano\, TX\, 75093
CATEGORIES:Bible Fellowship Class,Calendar,Prestonwood Events
ATTACH;FMTTYPE=image/jpeg:http://prestonwoodexamine.org/wp-content/uploads/2015/09/dna_in_dino_bones_wide.jpg
GEO:33.0287075;-96.8469949
X-APPLE-STRUCTURED-LOCATION;VALUE=URI;X-ADDRESS=Church 6801 W. Park Blvd. Plano TX 75093;X-APPLE-RADIUS=500;X-TITLE=6801 W. Park Blvd.:geo:-96.8469949,33.0287075
END:VEVENT
END:VCALENDAR